BEGIN:VCALENDAR
VERSION:2.0
PRODID:-//cryptoArks - ECPv6.15.13//NONSGML v1.0//EN
CALSCALE:GREGORIAN
METHOD:PUBLISH
X-ORIGINAL-URL:https://cryptoarks.io
X-WR-CALDESC:Events for cryptoArks
REFRESH-INTERVAL;VALUE=DURATION:PT1H
X-Robots-Tag:noindex
X-PUBLISHED-TTL:PT1H
BEGIN:VTIMEZONE
TZID:Africa/Lagos
BEGIN:STANDARD
TZOFFSETFROM:+0100
TZOFFSETTO:+0100
TZNAME:WAT
DTSTART:20240101T000000
END:STANDARD
END:VTIMEZONE
BEGIN:VEVENT
DTSTART;VALUE=DATE:20251229
DTEND;VALUE=DATE:20251230
DTSTAMP:20260419T162339
CREATED:20251226T231507Z
LAST-MODIFIED:20251226T231507Z
UID:2450-1766966400-1767052799@cryptoarks.io
SUMMARY:Site Launch
DESCRIPTION:This site is launching on the 29th
URL:https://cryptoarks.io/event/site-launch/
END:VEVENT
BEGIN:VEVENT
DTSTART;TZID=Africa/Lagos:20251226T080000
DTEND;TZID=Africa/Lagos:20251226T170000
DTSTAMP:20260419T162339
CREATED:20251229T001610Z
LAST-MODIFIED:20251226T225802Z
UID:2444-1766736000-1766768400@cryptoarks.io
SUMMARY:Crypto Shop
DESCRIPTION:
URL:https://cryptoarks.io/event/crypto-shop/
END:VEVENT
END:VCALENDAR